BEGIN:VCALENDAR
VERSION:2.0
PRODID:-//Community Food and Health (Scotland) - ECPv5.16.3.1//NONSGML v1.0//EN
CALSCALE:GREGORIAN
METHOD:PUBLISH
X-WR-CALNAME:Community Food and Health (Scotland)
X-ORIGINAL-URL:https://www.communityfoodandhealth.org.uk
X-WR-CALDESC:Events for Community Food and Health (Scotland)
BEGIN:VTIMEZONE
TZID:Europe/London
BEGIN:DAYLIGHT
TZOFFSETFROM:+0000
TZOFFSETTO:+0100
TZNAME:BST
DTSTART:20140330T010000
END:DAYLIGHT
BEGIN:STANDARD
TZOFFSETFROM:+0100
TZOFFSETTO:+0000
TZNAME:GMT
DTSTART:20141026T010000
END:STANDARD
END:VTIMEZONE
BEGIN:VEVENT
DTSTART;VALUE=DATE:20140530
DTEND;VALUE=DATE:20140531
DTSTAMP:20260423T112657
CREATED:20140508T140342Z
LAST-MODIFIED:20140508T140342Z
UID:7274-1401408000-1401494399@www.communityfoodandhealth.org.uk
SUMMARY:Mindful eating: putting theory into practice
DESCRIPTION:Children in Scotland training seminar.
URL:https://www.communityfoodandhealth.org.uk/event/mindful-eating-putting-theory-practice/
LOCATION:Unnamed Venue\, Edinburgh 
END:VEVENT
END:VCALENDAR