BEGIN:VCALENDAR
VERSION:2.0
PRODID:-//Community Food and Health (Scotland) - ECPv5.16.3.1//NONSGML v1.0//EN
CALSCALE:GREGORIAN
METHOD:PUBLISH
X-WR-CALNAME:Community Food and Health (Scotland)
X-ORIGINAL-URL:https://www.communityfoodandhealth.org.uk
X-WR-CALDESC:Events for Community Food and Health (Scotland)
BEGIN:VTIMEZONE
TZID:Europe/London
BEGIN:DAYLIGHT
TZOFFSETFROM:+0000
TZOFFSETTO:+0100
TZNAME:BST
DTSTART:20140330T010000
END:DAYLIGHT
BEGIN:STANDARD
TZOFFSETFROM:+0100
TZOFFSETTO:+0000
TZNAME:GMT
DTSTART:20141026T010000
END:STANDARD
END:VTIMEZONE
BEGIN:VEVENT
DTSTART;TZID=Europe/London:20140529T100000
DTEND;TZID=Europe/London:20140529T150000
DTSTAMP:20260423T101229
CREATED:20140425T100204Z
LAST-MODIFIED:20140425T100204Z
UID:7081-1401357600-1401375600@www.communityfoodandhealth.org.uk
SUMMARY:Maternal and infant nutrition framework: supporting a Healthy Start
DESCRIPTION:A CFHS opportunity for people to network and to share information\, learning and news around Healthy Start issues.  The event will have a focus on community activity in relation to Healthy Start and maternal and infant nutrition.
URL:https://www.communityfoodandhealth.org.uk/event/maternal-infant-nutrition-framework-supporting-healthy-start/
LOCATION:Albert Halls\, Dumbarton Road\, Stirling 
ORGANIZER;CN="CFHS":MAILTO:nhs.healthscotland-CFHS@nhs.net
END:VEVENT
END:VCALENDAR