BEGIN:VCALENDAR
VERSION:2.0
PRODID:-//Community Food and Health (Scotland) - ECPv5.16.3.1//NONSGML v1.0//EN
CALSCALE:GREGORIAN
METHOD:PUBLISH
X-WR-CALNAME:Community Food and Health (Scotland)
X-ORIGINAL-URL:https://www.communityfoodandhealth.org.uk
X-WR-CALDESC:Events for Community Food and Health (Scotland)
BEGIN:VTIMEZONE
TZID:Europe/London
BEGIN:DAYLIGHT
TZOFFSETFROM:+0000
TZOFFSETTO:+0100
TZNAME:BST
DTSTART:20140330T010000
END:DAYLIGHT
BEGIN:STANDARD
TZOFFSETFROM:+0100
TZOFFSETTO:+0000
TZNAME:GMT
DTSTART:20141026T010000
END:STANDARD
END:VTIMEZONE
BEGIN:VEVENT
DTSTART;TZID=Europe/London:20140530T103000
DTEND;TZID=Europe/London:20140530T143000
DTSTAMP:20260423T122950
CREATED:20140508T135428Z
LAST-MODIFIED:20140508T135428Z
UID:7269-1401445800-1401460200@www.communityfoodandhealth.org.uk
SUMMARY:Learning to EATS seminar
DESCRIPTION:This free seminar will explain the growing and harvesting of fruit and vegetables in public spaces for community benefit.  EATS (Edible and Tasty Spaces) is a project managed by Fife Council\,Leisure & Cultural Services
URL:https://www.communityfoodandhealth.org.uk/event/learning-eats-seminar/
LOCATION:Church of Scotland Parish Hall\, Cupar Road\, Newburgh\, United Kingdom
ORGANIZER;CN="Fife%20Council":MAILTO:kevin.okane@fife.gov.uk
END:VEVENT
END:VCALENDAR